BEGIN:VCALENDAR
VERSION:2.0
PRODID:-//Il Libraio//NONSGML Event Calendar//IT
BEGIN:VEVENT
UID:69abad73a63c0
DTSTART:20260316T200000Z
SEQUENCE:0
TRANSP:OPAQUE
LOCATION:https://www.google.com/maps/dir/+Sala+Maddalena+Via+Santa+Maddalen
 a+5++Monza+MB/
SUMMARY:Gherardo Colombo a Monza
CLASS:PUBLIC
DESCRIPTION:Scheda dell'evento: https://www.illibraio.it/eventi/gherardo-co
 lombo-a-monza-35878/
DTSTAMP:20260307T044539Z
END:VEVENT
END:VCALENDAR