BEGIN:VCALENDAR
VERSION:2.0
PRODID:-//Il Libraio//NONSGML Event Calendar//IT
BEGIN:VEVENT
UID:6986c3d821009
DTSTART:20260213T170000Z
SEQUENCE:0
TRANSP:OPAQUE
LOCATION:https://www.google.com/maps/dir/+Libreria+Tarantola+piazza+Martiri
 +di+via+Fani+1++Sesto+San+Giovanni+MI/
SUMMARY:Gherardo Colombo a Sesto San Giovanni (MI)
CLASS:PUBLIC
DESCRIPTION:Scheda dell'evento: https://www.illibraio.it/eventi/gherardo-co
 lombo-a-sesto-san-giovanni-mi-35203/
DTSTAMP:20260207T044720Z
END:VEVENT
END:VCALENDAR