BEGIN:VCALENDAR
VERSION:2.0
PRODID:-//Il Libraio//NONSGML Event Calendar//IT
BEGIN:VEVENT
UID:69ab1b1bab9f7
DTSTART:20260315T163000Z
SEQUENCE:0
TRANSP:OPAQUE
LOCATION:https://www.google.com/maps/dir/+Casa+di+Quartiere+A.+Montanari+A.
 P.S.+Via+di+Saliceto+3/21++Bologna+BO/
SUMMARY:GialloFestival: Adriano Giotti a Bologna
CLASS:PUBLIC
DESCRIPTION:Scheda dell'evento: https://www.illibraio.it/eventi/giallofesti
 val-adriano-giotti-a-bologna-35552/
DTSTAMP:20260306T182115Z
END:VEVENT
END:VCALENDAR