BEGIN:VCALENDAR
VERSION:2.0
PRODID:-//Il Libraio//NONSGML Event Calendar//IT
BEGIN:VEVENT
UID:69cd53eddd852
DTSTART:20260509T183000Z
SEQUENCE:0
TRANSP:OPAQUE
LOCATION:https://www.google.com/maps/dir/+Spazio+Terzo+Mondo+Via+Italia+73+
 +Seriate+BG/
SUMMARY:Giuseppe Festa presenta \"La pescatrice\" a Seriate
CLASS:PUBLIC
DESCRIPTION:Scheda dell'evento: https://www.illibraio.it/eventi/giuseppe-fe
 sta-presenta-la-pescatrice-a-seriate-36297/
DTSTAMP:20260401T172045Z
END:VEVENT
END:VCALENDAR