BEGIN:VCALENDAR
VERSION:2.0
PRODID:-//Il Libraio//NONSGML Event Calendar//IT
BEGIN:VEVENT
UID:69ea5509381da
DTSTART:20260606T083000Z
SEQUENCE:0
TRANSP:OPAQUE
LOCATION:https://www.google.com/maps/dir/+Mostra+d\\'Oltremare+S.p.A.+Viale
 +John+Fitzgerald+Kennedy+54++Napoli+NA/
SUMMARY:Hellen Ligios sarà al Romance Bookparty a Napoli
CLASS:PUBLIC
DESCRIPTION:Scheda dell'evento: https://www.illibraio.it/eventi/hellen-ligi
 os-sara-al-romance-bookparty-a-napoli-36665/
DTSTAMP:20260423T172113Z
END:VEVENT
END:VCALENDAR