BEGIN:VCALENDAR
VERSION:2.0
PRODID:-//Il Libraio//NONSGML Event Calendar//IT
BEGIN:VEVENT
UID:69ea0095ba331
DTSTART:20260515T130000Z
SEQUENCE:0
TRANSP:OPAQUE
LOCATION:https://www.google.com/maps/dir/+Sala+della+Poesia+-+Stand+Friuli-
 Venezia+Giulia+-+Salone+Internazionale+del+Libro+Via+Nizza+294++Torino+TO/
SUMMARY:Incontro con Alberto Pellegatta
CLASS:PUBLIC
DESCRIPTION:Scheda dell'evento: https://www.illibraio.it/eventi/incontro-co
 n-alberto-pellegatta-36451/
DTSTAMP:20260423T112053Z
END:VEVENT
END:VCALENDAR