BEGIN:VCALENDAR
VERSION:2.0
PRODID:-//Il Libraio//NONSGML Event Calendar//IT
BEGIN:VEVENT
UID:69e11a9406013
DTSTART:20260521T160000Z
SEQUENCE:0
TRANSP:OPAQUE
LOCATION:https://www.google.com/maps/dir/+Laboratorio+Fondazione+Mondadori+
 Via+Marco+Formentini+10++Milano+MI/
SUMMARY:Incontro con Alberto Pellegatta
CLASS:PUBLIC
DESCRIPTION:Scheda dell'evento: https://www.illibraio.it/eventi/incontro-co
 n-alberto-pellegatta-36554/
DTSTAMP:20260416T172124Z
END:VEVENT
END:VCALENDAR