BEGIN:VCALENDAR
VERSION:2.0
PRODID:-//Il Libraio//NONSGML Event Calendar//IT
BEGIN:VEVENT
UID:69bd902fe885f
DTSTART:20260420T183000Z
SEQUENCE:0
TRANSP:OPAQUE
LOCATION:https://www.google.com/maps/dir/+Teatro+Manzoni+Via+Alessandro+Man
 zoni+42++Milano+MI/
SUMMARY:Incontro con Andrea Kerbaker
CLASS:PUBLIC
DESCRIPTION:Scheda dell'evento: https://www.illibraio.it/eventi/incontro-co
 n-andrea-kerbaker-36108/
DTSTAMP:20260320T182135Z
END:VEVENT
END:VCALENDAR