BEGIN:VCALENDAR
VERSION:2.0
PRODID:-//Il Libraio//NONSGML Event Calendar//IT
BEGIN:VEVENT
UID:69d9318064be6
DTSTART:20260515T144500Z
SEQUENCE:0
TRANSP:OPAQUE
LOCATION:https://www.google.com/maps/dir/+Salone+Internazionale+del+Libro+V
 ia+Nizza+294++Torino+TO/
SUMMARY:Incontro con Bruno Arpaia
CLASS:PUBLIC
DESCRIPTION:Scheda dell'evento: https://www.illibraio.it/eventi/incontro-co
 n-bruno-arpaia-36261/
DTSTAMP:20260410T172104Z
END:VEVENT
END:VCALENDAR