BEGIN:VCALENDAR
VERSION:2.0
PRODID:-//Il Libraio//NONSGML Event Calendar//IT
BEGIN:VEVENT
UID:69de77f647c55
DTSTART:20260516T143000Z
SEQUENCE:0
TRANSP:OPAQUE
LOCATION:https://www.google.com/maps/dir/+Ex+Refettorio+del+Convento+dei+Fr
 ati+Minori+Vicolo+Michelangelo+Albertini+18++Piobesi+Torinese+TO/
SUMMARY:Incontro con Bruno Arpaia
CLASS:PUBLIC
DESCRIPTION:Scheda dell'evento: https://www.illibraio.it/eventi/incontro-co
 n-bruno-arpaia-36509/
DTSTAMP:20260414T172302Z
END:VEVENT
END:VCALENDAR