BEGIN:VCALENDAR
VERSION:2.0
PRODID:-//Il Libraio//NONSGML Event Calendar//IT
BEGIN:VEVENT
UID:69d931806b50e
DTSTART:20260516T161500Z
SEQUENCE:0
TRANSP:OPAQUE
LOCATION:https://www.google.com/maps/dir/+Salone+Internazionale+del+Libro+V
 ia+Nizza+294++Torino+TO/
SUMMARY:Incontro con Elena Varvello
CLASS:PUBLIC
DESCRIPTION:Scheda dell'evento: https://www.illibraio.it/eventi/incontro-co
 n-elena-varvello-36263/
DTSTAMP:20260410T172104Z
END:VEVENT
END:VCALENDAR