BEGIN:VCALENDAR
VERSION:2.0
PRODID:-//Il Libraio//NONSGML Event Calendar//IT
BEGIN:VEVENT
UID:69cc029ac5466
DTSTART:20260416T163000Z
SEQUENCE:0
TRANSP:OPAQUE
LOCATION:https://www.google.com/maps/dir/+Libreria+Il+Ponte+sulla+Dora+Via+
 Pisa+46++Torino+TO/
SUMMARY:Incontro con Elena Varvello
CLASS:PUBLIC
DESCRIPTION:Scheda dell'evento: https://www.illibraio.it/eventi/incontro-co
 n-elena-varvello-36277/
DTSTAMP:20260331T172130Z
END:VEVENT
END:VCALENDAR