BEGIN:VCALENDAR
VERSION:2.0
PRODID:-//Il Libraio//NONSGML Event Calendar//IT
BEGIN:VEVENT
UID:69dfc96f892b5
DTSTART:20260505T184500Z
SEQUENCE:0
TRANSP:OPAQUE
LOCATION:https://www.google.com/maps/dir/+Vicolo+Sant\\'Agata+19+-+Bergamo+
 (BG)+Vicolo+Sant\\'Agata+19++Bergamo+BG/
SUMMARY:Incontro con Elena Varvello
CLASS:PUBLIC
DESCRIPTION:Scheda dell'evento: https://www.illibraio.it/eventi/incontro-co
 n-elena-varvello-36473/
DTSTAMP:20260415T172255Z
END:VEVENT
END:VCALENDAR