BEGIN:VCALENDAR
VERSION:2.0
PRODID:-//Il Libraio//NONSGML Event Calendar//IT
BEGIN:VEVENT
UID:69dfc96f6059d
DTSTART:20260501T160000Z
SEQUENCE:0
TRANSP:OPAQUE
LOCATION:https://www.google.com/maps/dir/+La+Piccola+Libreria+di+Lisa+Orlan
 di+a+Levico+Terme+Via+Regia+26++Levico+Terme+TN/
SUMMARY:Incontro con Elena Varvello
CLASS:PUBLIC
DESCRIPTION:Scheda dell'evento: https://www.illibraio.it/eventi/incontro-co
 n-elena-varvello-36476/
DTSTAMP:20260415T172255Z
END:VEVENT
END:VCALENDAR