BEGIN:VCALENDAR
VERSION:2.0
PRODID:-//Il Libraio//NONSGML Event Calendar//IT
BEGIN:VEVENT
UID:69dfc96f62c33
DTSTART:20260502T163000Z
SEQUENCE:0
TRANSP:OPAQUE
LOCATION:https://www.google.com/maps/dir/+Mondadori+Bookstore+Via+Francesco
 +Maria+Preti+24++Castelfranco+Veneto+TV/
SUMMARY:Incontro con Elena Varvello
CLASS:PUBLIC
DESCRIPTION:Scheda dell'evento: https://www.illibraio.it/eventi/incontro-co
 n-elena-varvello-36477/
DTSTAMP:20260415T172255Z
END:VEVENT
END:VCALENDAR