BEGIN:VCALENDAR
VERSION:2.0
PRODID:-//Il Libraio//NONSGML Event Calendar//IT
BEGIN:VEVENT
UID:69de77f6121d1
DTSTART:20260512T163000Z
SEQUENCE:0
TRANSP:OPAQUE
LOCATION:https://www.google.com/maps/dir/+Biblioteca+Civica+Alvaro+Corghi+C
 orso+Martiri+della+Libertà+33++Ciriè+TO/
SUMMARY:Incontro con Elena Varvello
CLASS:PUBLIC
DESCRIPTION:Scheda dell'evento: https://www.illibraio.it/eventi/incontro-co
 n-elena-varvello-36489/
DTSTAMP:20260414T172302Z
END:VEVENT
END:VCALENDAR