BEGIN:VCALENDAR
VERSION:2.0
PRODID:-//Il Libraio//NONSGML Event Calendar//IT
BEGIN:VEVENT
UID:69de77f6181c2
DTSTART:20260515T163000Z
SEQUENCE:0
TRANSP:OPAQUE
LOCATION:https://www.google.com/maps/dir/+L\\'Altra+Libreria+di+A.+Manzoni+
 &+C.+Via+Aldo+Annoni+32++Abbiategrasso+MI/
SUMMARY:Incontro con Elena Varvello
CLASS:PUBLIC
DESCRIPTION:Scheda dell'evento: https://www.illibraio.it/eventi/incontro-co
 n-elena-varvello-36491/
DTSTAMP:20260414T172302Z
END:VEVENT
END:VCALENDAR