BEGIN:VCALENDAR
VERSION:2.0
PRODID:-//Il Libraio//NONSGML Event Calendar//IT
BEGIN:VEVENT
UID:69de77f63b2cb
DTSTART:20260521T163000Z
SEQUENCE:0
TRANSP:OPAQUE
LOCATION:https://www.google.com/maps/dir/+Agorà+Libreria+Editrice+Via+Gius
 eppe+Garibaldi+22++Feltre+BL/
SUMMARY:Incontro con Elena Varvello
CLASS:PUBLIC
DESCRIPTION:Scheda dell'evento: https://www.illibraio.it/eventi/incontro-co
 n-elena-varvello-36503/
DTSTAMP:20260414T172302Z
END:VEVENT
END:VCALENDAR