BEGIN:VCALENDAR
VERSION:2.0
PRODID:-//Il Libraio//NONSGML Event Calendar//IT
BEGIN:VEVENT
UID:69de77f63e49d
DTSTART:20260522T163000Z
SEQUENCE:0
TRANSP:OPAQUE
LOCATION:https://www.google.com/maps/dir/+Mondadori+Bookstore+Mestre+Piazza
 le+Luigi+Candiani+7/A++Venezia+VE/
SUMMARY:Incontro con Elena Varvello
CLASS:PUBLIC
DESCRIPTION:Scheda dell'evento: https://www.illibraio.it/eventi/incontro-co
 n-elena-varvello-36505/
DTSTAMP:20260414T172302Z
END:VEVENT
END:VCALENDAR