BEGIN:VCALENDAR
VERSION:2.0
PRODID:-//Il Libraio//NONSGML Event Calendar//IT
BEGIN:VEVENT
UID:69dfc96fae960
DTSTART:20260520T160000Z
SEQUENCE:0
TRANSP:OPAQUE
LOCATION:https://www.google.com/maps/dir/+Il+Circolo+dei+Lettori+Piazza+Mar
 tiri+della+Libertà+3++Novara+NO/
SUMMARY:Incontro con Elena Varvello
CLASS:PUBLIC
DESCRIPTION:Scheda dell'evento: https://www.illibraio.it/eventi/incontro-co
 n-elena-varvello-36539/
DTSTAMP:20260415T172255Z
END:VEVENT
END:VCALENDAR