BEGIN:VCALENDAR
VERSION:2.0
PRODID:-//Il Libraio//NONSGML Event Calendar//IT
BEGIN:VEVENT
UID:69de77f61e80c
DTSTART:20260510T090000Z
SEQUENCE:0
TRANSP:OPAQUE
LOCATION:https://www.google.com/maps/dir/+Casale+dei+Cedrati+Via+Aurelia+An
 tica+219++Roma+RM/
SUMMARY:Incontro con Federico Italiano
CLASS:PUBLIC
DESCRIPTION:Scheda dell'evento: https://www.illibraio.it/eventi/incontro-co
 n-federico-italiano-36495/
DTSTAMP:20260414T172302Z
END:VEVENT
END:VCALENDAR