BEGIN:VCALENDAR
VERSION:2.0
PRODID:-//Il Libraio//NONSGML Event Calendar//IT
BEGIN:VEVENT
UID:69de77f5f3d78
DTSTART:20260510T140000Z
SEQUENCE:0
TRANSP:OPAQUE
LOCATION:https://www.google.com/maps/dir/+Biblioteca+Civica+di+Verona+Via+C
 appello+43++Verona+VR/
SUMMARY:Incontro con Gian Andrea Cerone
CLASS:PUBLIC
DESCRIPTION:Scheda dell'evento: https://www.illibraio.it/eventi/incontro-co
 n-gian-andrea-cerone-36488/
DTSTAMP:20260414T172301Z
END:VEVENT
END:VCALENDAR