BEGIN:VCALENDAR
VERSION:2.0
PRODID:-//Il Libraio//NONSGML Event Calendar//IT
BEGIN:VEVENT
UID:69dfc96fa2501
DTSTART:20260511T160000Z
SEQUENCE:0
TRANSP:OPAQUE
LOCATION:https://www.google.com/maps/dir/+Via+Zebedia+2+-+Milano+(MI)+Via+Z
 ebedia+2++Milano+MI/
SUMMARY:Incontro con Gian Andrea Cerone
CLASS:PUBLIC
DESCRIPTION:Scheda dell'evento: https://www.illibraio.it/eventi/incontro-co
 n-gian-andrea-cerone-36532/
DTSTAMP:20260415T172255Z
END:VEVENT
END:VCALENDAR