BEGIN:VCALENDAR
VERSION:2.0
PRODID:-//Il Libraio//NONSGML Event Calendar//IT
BEGIN:VEVENT
UID:69d931808178b
DTSTART:20260510T140000Z
SEQUENCE:0
TRANSP:OPAQUE
LOCATION:https://www.google.com/maps/dir/+Antico+Caffè+San+Marco+Via+Cesar
 e+Battisti+18++Trieste+TS/
SUMMARY:Incontro con Gianluca Di Feo
CLASS:PUBLIC
DESCRIPTION:Scheda dell'evento: https://www.illibraio.it/eventi/incontro-co
 n-gianluca-di-feo-36424/
DTSTAMP:20260410T172104Z
END:VEVENT
END:VCALENDAR