BEGIN:VCALENDAR
VERSION:2.0
PRODID:-//Il Libraio//NONSGML Event Calendar//IT
BEGIN:VEVENT
UID:69dfc96fb5991
DTSTART:20260420T180000Z
SEQUENCE:0
TRANSP:OPAQUE
LOCATION:https://www.google.com/maps/dir/+Palazzo+Borghese+Via+Ghibellina+1
 10++Firenze+FI/
SUMMARY:Incontro con Gianluca Di Feo
CLASS:PUBLIC
DESCRIPTION:Scheda dell'evento: https://www.illibraio.it/eventi/incontro-co
 n-gianluca-di-feo-36548/
DTSTAMP:20260415T172255Z
END:VEVENT
END:VCALENDAR