BEGIN:VCALENDAR
VERSION:2.0
PRODID:-//Il Libraio//NONSGML Event Calendar//IT
BEGIN:VEVENT
UID:69bd902fd5bd0
DTSTART:20260417T153000Z
SEQUENCE:0
TRANSP:OPAQUE
LOCATION:https://www.google.com/maps/dir/+Biblioteca+Sicilia+Via+Luigi+Sacc
 o+14++Milano+MI/
SUMMARY:Incontro con Gianni Biondillo
CLASS:PUBLIC
DESCRIPTION:Scheda dell'evento: https://www.illibraio.it/eventi/incontro-co
 n-gianni-biondillo-36100/
DTSTAMP:20260320T182135Z
END:VEVENT
END:VCALENDAR