BEGIN:VCALENDAR
VERSION:2.0
PRODID:-//Il Libraio//NONSGML Event Calendar//IT
BEGIN:VEVENT
UID:69bd902feea42
DTSTART:20260422T170000Z
SEQUENCE:0
TRANSP:OPAQUE
LOCATION:https://www.google.com/maps/dir/+Alaska+Libreria+Via+Gian+Rinaldo+
 Carli+39++Milano+MI/
SUMMARY:Incontro con Ilaria Rossetti
CLASS:PUBLIC
DESCRIPTION:Scheda dell'evento: https://www.illibraio.it/eventi/incontro-co
 n-ilaria-rossetti-36114/
DTSTAMP:20260320T182135Z
END:VEVENT
END:VCALENDAR