BEGIN:VCALENDAR
VERSION:2.0
PRODID:-//Il Libraio//NONSGML Event Calendar//IT
BEGIN:VEVENT
UID:69bd902ff0aed
DTSTART:20260423T160000Z
SEQUENCE:0
TRANSP:OPAQUE
LOCATION:https://www.google.com/maps/dir/+Libreria+Fontana+Via+San+Francesc
 o+D\\'Assisi+18++Torino+TO/
SUMMARY:Incontro con Ilaria Rossetti
CLASS:PUBLIC
DESCRIPTION:Scheda dell'evento: https://www.illibraio.it/eventi/incontro-co
 n-ilaria-rossetti-36115/
DTSTAMP:20260320T182135Z
END:VEVENT
END:VCALENDAR