BEGIN:VCALENDAR
VERSION:2.0
PRODID:-//Il Libraio//NONSGML Event Calendar//IT
BEGIN:VEVENT
UID:69bd9030072b4
DTSTART:20260425T150000Z
SEQUENCE:0
TRANSP:OPAQUE
LOCATION:https://www.google.com/maps/dir/+Libreria+Il+Rifugio+Letterario+Vi
 a+Battista+Foletti+7++Massagno+Lu/
SUMMARY:Incontro con Ilaria Rossetti
CLASS:PUBLIC
DESCRIPTION:Scheda dell'evento: https://www.illibraio.it/eventi/incontro-co
 n-ilaria-rossetti-36120/
DTSTAMP:20260320T182136Z
END:VEVENT
END:VCALENDAR