BEGIN:VCALENDAR
VERSION:2.0
PRODID:-//Il Libraio//NONSGML Event Calendar//IT
BEGIN:VEVENT
UID:69de77f61c1c6
DTSTART:20260516T090000Z
SEQUENCE:0
TRANSP:OPAQUE
LOCATION:https://www.google.com/maps/dir/+Punto+di+servizio+bibliotecario+I
 +ragazzi+e+le+ragazze+di+Utøya+Via+Zumaglia+39++Torino+TO/
SUMMARY:Incontro con Ilaria Rossetti
CLASS:PUBLIC
DESCRIPTION:Scheda dell'evento: https://www.illibraio.it/eventi/incontro-co
 n-ilaria-rossetti-36493/
DTSTAMP:20260414T172302Z
END:VEVENT
END:VCALENDAR