BEGIN:VCALENDAR
VERSION:2.0
PRODID:-//Il Libraio//NONSGML Event Calendar//IT
BEGIN:VEVENT
UID:69de77f637bde
DTSTART:20260519T163000Z
SEQUENCE:0
TRANSP:OPAQUE
LOCATION:https://www.google.com/maps/dir/+Libreria+Ubik+Monterosa+91+Via+Mo
 nte+Rosa+91++Milano+MI/
SUMMARY:Incontro con Ilaria Rossetti
CLASS:PUBLIC
DESCRIPTION:Scheda dell'evento: https://www.illibraio.it/eventi/incontro-co
 n-ilaria-rossetti-36501/
DTSTAMP:20260414T172302Z
END:VEVENT
END:VCALENDAR