BEGIN:VCALENDAR
VERSION:2.0
PRODID:-//Il Libraio//NONSGML Event Calendar//IT
BEGIN:VEVENT
UID:69de77f63982f
DTSTART:20260520T160000Z
SEQUENCE:0
TRANSP:OPAQUE
LOCATION:https://www.google.com/maps/dir/+Libreria+Rinascita+Ubik+Via+A.+Gr
 amsci+334++Sesto+Fiorentino+FI/
SUMMARY:Incontro con Ilaria Rossetti
CLASS:PUBLIC
DESCRIPTION:Scheda dell'evento: https://www.illibraio.it/eventi/incontro-co
 n-ilaria-rossetti-36502/
DTSTAMP:20260414T172302Z
END:VEVENT
END:VCALENDAR