BEGIN:VCALENDAR
VERSION:2.0
PRODID:-//Il Libraio//NONSGML Event Calendar//IT
BEGIN:VEVENT
UID:69dfc96f007db
DTSTART:20260509T190000Z
SEQUENCE:0
TRANSP:OPAQUE
LOCATION:https://www.google.com/maps/dir/+Via+Don+Giuseppe+Sambo+7+-+Rosoli
 na+(RO)+Via+Don+Giuseppe+Sambo+7++Rosolina+RO/
SUMMARY:Incontro con Ilaria Rossetti
CLASS:PUBLIC
DESCRIPTION:Scheda dell'evento: https://www.illibraio.it/eventi/incontro-co
 n-ilaria-rossetti-36524/
DTSTAMP:20260415T172255Z
END:VEVENT
END:VCALENDAR