BEGIN:VCALENDAR
VERSION:2.0
PRODID:-//Il Libraio//NONSGML Event Calendar//IT
BEGIN:VEVENT
UID:69e26c065634f
DTSTART:20260525T190000Z
SEQUENCE:0
TRANSP:OPAQUE
LOCATION:https://www.google.com/maps/dir/+Libreria+Sommaruga+Sas+Di+Sfondri
 ni+Michela+&+C.+Corso+Vittorio+Emanuele+II+66++Lodi+LO/
SUMMARY:Incontro con Ilaria Rossetti
CLASS:PUBLIC
DESCRIPTION:Scheda dell'evento: https://www.illibraio.it/eventi/incontro-co
 n-ilaria-rossetti-36589/
DTSTAMP:20260417T172110Z
END:VEVENT
END:VCALENDAR