BEGIN:VCALENDAR
VERSION:2.0
PRODID:-//Il Libraio//NONSGML Event Calendar//IT
BEGIN:VEVENT
UID:69ea0095c69ab
DTSTART:20260517T151500Z
SEQUENCE:0
TRANSP:OPAQUE
LOCATION:https://www.google.com/maps/dir/+Sala+Azzurra+-+Salone+Internazion
 ale+del+Libro+Via+Nizza+294++Torino+TO/
SUMMARY:Incontro con Irvine Welsh
CLASS:PUBLIC
DESCRIPTION:Scheda dell'evento: https://www.illibraio.it/eventi/incontro-co
 n-irvine-welsh-36264/
DTSTAMP:20260423T112053Z
END:VEVENT
END:VCALENDAR