BEGIN:VCALENDAR
VERSION:2.0
PRODID:-//Il Libraio//NONSGML Event Calendar//IT
BEGIN:VEVENT
UID:69de77f6276a5
DTSTART:20260518T083000Z
SEQUENCE:0
TRANSP:OPAQUE
LOCATION:https://www.google.com/maps/dir/+Aula+Magna+Storica+del+Rettorato+
 Via+Giuseppe+Verdi+8++Torino+TO/
SUMMARY:Incontro con Irvine Welsh
CLASS:PUBLIC
DESCRIPTION:Scheda dell'evento: https://www.illibraio.it/eventi/incontro-co
 n-irvine-welsh-36497/
DTSTAMP:20260414T172302Z
END:VEVENT
END:VCALENDAR