BEGIN:VCALENDAR
VERSION:2.0
PRODID:-//Il Libraio//NONSGML Event Calendar//IT
BEGIN:VEVENT
UID:69de77f63c939
DTSTART:20260518T190000Z
SEQUENCE:0
TRANSP:OPAQUE
LOCATION:https://www.google.com/maps/dir/+Teatro+Rasi+/+Ravenna+Teatro+Via+
 di+Roma+39++Ravenna+RA/
SUMMARY:Incontro con Irvine Welsh
CLASS:PUBLIC
DESCRIPTION:Scheda dell'evento: https://www.illibraio.it/eventi/incontro-co
 n-irvine-welsh-36504/
DTSTAMP:20260414T172302Z
END:VEVENT
END:VCALENDAR