BEGIN:VCALENDAR
VERSION:2.0
PRODID:-//Il Libraio//NONSGML Event Calendar//IT
BEGIN:VEVENT
UID:69e9037748363
DTSTART:20260519T163000Z
SEQUENCE:0
TRANSP:OPAQUE
LOCATION:https://www.google.com/maps/dir/+Feltrinelli+Trento+Piazza+Santa+M
 aria+Maggiore+25+Trento++Trento+TN/
SUMMARY:Incontro con Irvine Welsh
CLASS:PUBLIC
DESCRIPTION:Scheda dell'evento: https://www.illibraio.it/eventi/incontro-co
 n-irvine-welsh-36632/
DTSTAMP:20260422T172055Z
END:VEVENT
END:VCALENDAR