BEGIN:VCALENDAR
VERSION:2.0
PRODID:-//Il Libraio//NONSGML Event Calendar//IT
BEGIN:VEVENT
UID:69d0896c76788
DTSTART:20260421T160000Z
SEQUENCE:0
TRANSP:OPAQUE
LOCATION:https://www.google.com/maps/dir/+Biblioteca+Nelson+Mandela+Via+La+
 Spezia+21++Roma+RM/
SUMMARY:Incontro con Marco Vichi
CLASS:PUBLIC
DESCRIPTION:Scheda dell'evento: https://www.illibraio.it/eventi/incontro-co
 n-marco-vichi-36420/
DTSTAMP:20260404T034548Z
END:VEVENT
END:VCALENDAR