BEGIN:VCALENDAR
VERSION:2.0
PRODID:-//Il Libraio//NONSGML Event Calendar//IT
BEGIN:VEVENT
UID:69d0896c78d52
DTSTART:20260426T160000Z
SEQUENCE:0
TRANSP:OPAQUE
LOCATION:https://www.google.com/maps/dir/+Necropoli+della+Banditaccia+Via+d
 ella+Necropoli+43/45++Cerveteri+RM/
SUMMARY:Incontro con Marco Vichi
CLASS:PUBLIC
DESCRIPTION:Scheda dell'evento: https://www.illibraio.it/eventi/incontro-co
 n-marco-vichi-36421/
DTSTAMP:20260404T034548Z
END:VEVENT
END:VCALENDAR