BEGIN:VCALENDAR
VERSION:2.0
PRODID:-//Il Libraio//NONSGML Event Calendar//IT
BEGIN:VEVENT
UID:69e9037756816
DTSTART:20260510T163000Z
SEQUENCE:0
TRANSP:OPAQUE
LOCATION:https://www.google.com/maps/dir/+Loggiato+Del+Pellegrino+-+Piazza+
 Buondelmonti+Via+Case+2++Impruneta+FI/
SUMMARY:Incontro con Marco Vichi
CLASS:PUBLIC
DESCRIPTION:Scheda dell'evento: https://www.illibraio.it/eventi/incontro-co
 n-marco-vichi-36649/
DTSTAMP:20260422T172055Z
END:VEVENT
END:VCALENDAR