BEGIN:VCALENDAR
VERSION:2.0
PRODID:-//Il Libraio//NONSGML Event Calendar//IT
BEGIN:VEVENT
UID:69e7b2004c4eb
DTSTART:20260522T184500Z
SEQUENCE:0
TRANSP:OPAQUE
LOCATION:https://www.google.com/maps/dir/+Villa+Gualdo+Via+Giuseppe+Roi+1++
 Montegalda+VI/
SUMMARY:Incontro con Mariapia Veladiano
CLASS:PUBLIC
DESCRIPTION:Scheda dell'evento: https://www.illibraio.it/eventi/incontro-co
 n-mariapia-veladiano-36595/
DTSTAMP:20260421T172104Z
END:VEVENT
END:VCALENDAR