BEGIN:VCALENDAR
VERSION:2.0
PRODID:-//Il Libraio//NONSGML Event Calendar//IT
BEGIN:VEVENT
UID:69ea5509282a8
DTSTART:20260516T140000Z
SEQUENCE:0
TRANSP:OPAQUE
LOCATION:https://www.google.com/maps/dir/+Spazio+Umbria+-+Salone+Internazio
 nale+del+Libro+Via+Nizza+294++Torino+TO/
SUMMARY:Incontro con Mattea Fo
CLASS:PUBLIC
DESCRIPTION:Scheda dell'evento: https://www.illibraio.it/eventi/incontro-co
 n-mattea-fo-36411/
DTSTAMP:20260423T172113Z
END:VEVENT
END:VCALENDAR