BEGIN:VCALENDAR
VERSION:2.0
PRODID:-//Il Libraio//NONSGML Event Calendar//IT
BEGIN:VEVENT
UID:69bd902fd998a
DTSTART:20260418T093000Z
SEQUENCE:0
TRANSP:OPAQUE
LOCATION:https://www.google.com/maps/dir/+Fondazione+Querini+Stampalia+Camp
 iello+Santa+Maria+Formosa+5252++Venezia+VE/
SUMMARY:Incontro con Sara Stridsberg
CLASS:PUBLIC
DESCRIPTION:Scheda dell'evento: https://www.illibraio.it/eventi/incontro-co
 n-sara-stridsberg-36101/
DTSTAMP:20260320T182135Z
END:VEVENT
END:VCALENDAR