BEGIN:VCALENDAR
VERSION:2.0
PRODID:-//Il Libraio//NONSGML Event Calendar//IT
BEGIN:VEVENT
UID:69bd903002bf8
DTSTART:20260424T153000Z
SEQUENCE:0
TRANSP:OPAQUE
LOCATION:https://www.google.com/maps/dir/+Auditorium+Marchesi+Palazzo+della
 +Cultura+Catania+Via+Vittorio+Emanuele+II+119++Catania+CT/
SUMMARY:Incontro con Simona Lo Iacono
CLASS:PUBLIC
DESCRIPTION:Scheda dell'evento: https://www.illibraio.it/eventi/incontro-co
 n-simona-lo-iacono-36118/
DTSTAMP:20260320T182136Z
END:VEVENT
END:VCALENDAR