BEGIN:VCALENDAR
VERSION:2.0
PRODID:-//Il Libraio//NONSGML Event Calendar//IT
BEGIN:VEVENT
UID:69d0896c68703
DTSTART:20260426T153000Z
SEQUENCE:0
TRANSP:OPAQUE
LOCATION:https://www.google.com/maps/dir/+Comune+di+Palazzolo+Acreide+Piazz
 a+del+Popolo+1++Palazzolo+Acreide+SR/
SUMMARY:Incontro con Simona Lo Iacono
CLASS:PUBLIC
DESCRIPTION:Scheda dell'evento: https://www.illibraio.it/eventi/incontro-co
 n-simona-lo-iacono-36121/
DTSTAMP:20260404T034548Z
END:VEVENT
END:VCALENDAR