BEGIN:VCALENDAR
VERSION:2.0
PRODID:-//Il Libraio//NONSGML Event Calendar//IT
BEGIN:VEVENT
UID:69bd90300cde6
DTSTART:20260430T163000Z
SEQUENCE:0
TRANSP:OPAQUE
LOCATION:https://www.google.com/maps/dir/+Libreria+Ubik+Caltanissetta+Via+J
 ohn+F.+Kennedy+9++Caltanissetta+CL/
SUMMARY:Incontro con Simona Lo Iacono
CLASS:PUBLIC
DESCRIPTION:Scheda dell'evento: https://www.illibraio.it/eventi/incontro-co
 n-simona-lo-iacono-36123/
DTSTAMP:20260320T182136Z
END:VEVENT
END:VCALENDAR