BEGIN:VCALENDAR
VERSION:2.0
PRODID:-//Il Libraio//NONSGML Event Calendar//IT
BEGIN:VEVENT
UID:69dfc96f87fa3
DTSTART:20260504T163000Z
SEQUENCE:0
TRANSP:OPAQUE
LOCATION:https://www.google.com/maps/dir/+Modusvivendi+S.r.l.+Libreria+Via+
 Quintino+Sella+79++Palermo+PA/
SUMMARY:Incontro con Simona Lo Iacono
CLASS:PUBLIC
DESCRIPTION:Scheda dell'evento: https://www.illibraio.it/eventi/incontro-co
 n-simona-lo-iacono-36472/
DTSTAMP:20260415T172255Z
END:VEVENT
END:VCALENDAR