BEGIN:VCALENDAR
VERSION:2.0
PRODID:-//Il Libraio//NONSGML Event Calendar//IT
BEGIN:VEVENT
UID:69de77f58064c
DTSTART:20260508T153000Z
SEQUENCE:0
TRANSP:OPAQUE
LOCATION:https://www.google.com/maps/dir/+Librerie+Cavallotto+Ubik+Corso+Si
 cilia+91++Catania+CT/
SUMMARY:Incontro con Simona Lo Iacono
CLASS:PUBLIC
DESCRIPTION:Scheda dell'evento: https://www.illibraio.it/eventi/incontro-co
 n-simona-lo-iacono-36485/
DTSTAMP:20260414T172301Z
END:VEVENT
END:VCALENDAR