BEGIN:VCALENDAR
VERSION:2.0
PRODID:-//Il Libraio//NONSGML Event Calendar//IT
BEGIN:VEVENT
UID:69de77f634d46
DTSTART:20260518T160000Z
SEQUENCE:0
TRANSP:OPAQUE
LOCATION:https://www.google.com/maps/dir/+Sala+Frateantonio+(cenacolo+dei+D
 omenicani)+Via+Giuseppe+Mazzini+38++Avola+SR/
SUMMARY:Incontro con Simona Lo Iacono
CLASS:PUBLIC
DESCRIPTION:Scheda dell'evento: https://www.illibraio.it/eventi/incontro-co
 n-simona-lo-iacono-36500/
DTSTAMP:20260414T172302Z
END:VEVENT
END:VCALENDAR